BEGIN:VCALENDAR
VERSION:2.0
PRODID:-//Nyköping Vineyard - ECPv5.2.1//NONSGML v1.0//EN
CALSCALE:GREGORIAN
METHOD:PUBLISH
X-WR-CALNAME:Nyköping Vineyard
X-ORIGINAL-URL:https://nykoping.vineyard.se
X-WR-CALDESC:Händelser för Nyköping Vineyard
BEGIN:VTIMEZONE
TZID:Europe/Stockholm
BEGIN:DAYLIGHT
TZOFFSETFROM:+0100
TZOFFSETTO:+0200
TZNAME:CEST
DTSTART:20160327T010000
END:DAYLIGHT
BEGIN:STANDARD
TZOFFSETFROM:+0200
TZOFFSETTO:+0100
TZNAME:CET
DTSTART:20161030T010000
END:STANDARD
END:VTIMEZONE
BEGIN:VEVENT
DTSTART;TZID=Europe/Stockholm:20160910T100000
DTEND;TZID=Europe/Stockholm:20160910T170000
DTSTAMP:20260419T231417
CREATED:20160826T073401Z
LAST-MODIFIED:20160826T073426Z
UID:422-1473501600-1473526800@nykoping.vineyard.se
SUMMARY:Församlingsdag
DESCRIPTION:Välkommen till en dag med församlingen. Anmälan görs till Helena Wingbrant.
URL:https://nykoping.vineyard.se/event/forsamlingsdag-2/
LOCATION:Hjortensberskyrkans sommarhem\,  Stjärnholm Lastudden 40A\, Nyköping\, 611 92\, Sverige
END:VEVENT
END:VCALENDAR