BEGIN:VCALENDAR
VERSION:2.0
PRODID:-//Nyköping Vineyard - ECPv5.2.1//NONSGML v1.0//EN
CALSCALE:GREGORIAN
METHOD:PUBLISH
X-WR-CALNAME:Nyköping Vineyard
X-ORIGINAL-URL:https://nykoping.vineyard.se
X-WR-CALDESC:Händelser för Nyköping Vineyard
BEGIN:VTIMEZONE
TZID:Europe/Stockholm
BEGIN:DAYLIGHT
TZOFFSETFROM:+0100
TZOFFSETTO:+0200
TZNAME:CEST
DTSTART:20160327T010000
END:DAYLIGHT
BEGIN:STANDARD
TZOFFSETFROM:+0200
TZOFFSETTO:+0100
TZNAME:CET
DTSTART:20161030T010000
END:STANDARD
END:VTIMEZONE
BEGIN:VEVENT
DTSTART;TZID=Europe/Stockholm:20160424T150000
DTEND;TZID=Europe/Stockholm:20160424T170000
DTSTAMP:20260419T182117
CREATED:20160104T103018Z
LAST-MODIFIED:20160420T192429Z
UID:347-1461510000-1461517200@nykoping.vineyard.se
SUMMARY:Gudstjänst
DESCRIPTION:Gudstjänst i Nyköpings Folkhögskolas aula med start klockan 15. Vi börjar med att sjunga lovsång\, sedan fikar vi och lyssnar på undervisning.
URL:https://nykoping.vineyard.se/event/gudstjanst-24/
LOCATION:Nyköpings Folkhögskola\, Östra Trädgårdsgatan 3\, Nyköping\, 61134\, Sweden
CATEGORIES:Gudstjänst
END:VEVENT
END:VCALENDAR