BEGIN:VCALENDAR
VERSION:2.0
PRODID:-//Nyköping Vineyard - ECPv5.2.1//NONSGML v1.0//EN
CALSCALE:GREGORIAN
METHOD:PUBLISH
X-WR-CALNAME:Nyköping Vineyard
X-ORIGINAL-URL:https://nykoping.vineyard.se
X-WR-CALDESC:Händelser för Nyköping Vineyard
BEGIN:VTIMEZONE
TZID:Europe/Stockholm
BEGIN:DAYLIGHT
TZOFFSETFROM:+0100
TZOFFSETTO:+0200
TZNAME:CEST
DTSTART:20160327T010000
END:DAYLIGHT
BEGIN:STANDARD
TZOFFSETFROM:+0200
TZOFFSETTO:+0100
TZNAME:CET
DTSTART:20161030T010000
END:STANDARD
END:VTIMEZONE
BEGIN:VEVENT
DTSTART;TZID=Europe/Stockholm:20160605T150000
DTEND;TZID=Europe/Stockholm:20160605T170000
DTSTAMP:20260419T181647
CREATED:20160104T103257Z
LAST-MODIFIED:20160522T173449Z
UID:350-1465138800-1465146000@nykoping.vineyard.se
SUMMARY:Gudstjänst
DESCRIPTION:Gudstjänst i Nyköpings Folkhögskolas aula med start klockan 15. Vi börjar med lovsång\, sedan blir det fika och därefter undervisning.
URL:https://nykoping.vineyard.se/event/gudstjanst-27/
LOCATION:Nyköpings Folkhögskola\, Östra Trädgårdsgatan 3\, Nyköping\, 61134\, Sweden
CATEGORIES:Gudstjänst
END:VEVENT
END:VCALENDAR