BEGIN:VCALENDAR
VERSION:2.0
PRODID:-//Nyköping Vineyard - ECPv5.2.1//NONSGML v1.0//EN
CALSCALE:GREGORIAN
METHOD:PUBLISH
X-WR-CALNAME:Nyköping Vineyard
X-ORIGINAL-URL:https://nykoping.vineyard.se
X-WR-CALDESC:Händelser för Nyköping Vineyard
BEGIN:VTIMEZONE
TZID:Europe/Stockholm
BEGIN:DAYLIGHT
TZOFFSETFROM:+0100
TZOFFSETTO:+0200
TZNAME:CEST
DTSTART:20160327T010000
END:DAYLIGHT
BEGIN:STANDARD
TZOFFSETFROM:+0200
TZOFFSETTO:+0100
TZNAME:CET
DTSTART:20161030T010000
END:STANDARD
END:VTIMEZONE
BEGIN:VEVENT
DTSTART;TZID=Europe/Stockholm:20161204T150000
DTEND;TZID=Europe/Stockholm:20161204T170000
DTSTAMP:20260420T020104
CREATED:20161009T185917Z
LAST-MODIFIED:20161009T185917Z
UID:445-1480863600-1480870800@nykoping.vineyard.se
SUMMARY:Gudstjänst
DESCRIPTION:Gudstjänst i Nyköpings Folkhögskolas aula med start klockan 15. Vi börjar med att sjunga lovsång\, sedan fikar vi och lyssnar på undervisning.
URL:https://nykoping.vineyard.se/event/gudstjanst-36/
LOCATION:Nyköpings Folkhögskola\, Östra Trädgårdsgatan 3\, Nyköping\, 61134\, Sweden
CATEGORIES:Gudstjänst
END:VEVENT
END:VCALENDAR