BEGIN:VCALENDAR
VERSION:2.0
PRODID:-//Nyköping Vineyard - ECPv5.2.1//NONSGML v1.0//EN
CALSCALE:GREGORIAN
METHOD:PUBLISH
X-WR-CALNAME:Nyköping Vineyard
X-ORIGINAL-URL:https://nykoping.vineyard.se
X-WR-CALDESC:Händelser för Nyköping Vineyard
BEGIN:VTIMEZONE
TZID:Europe/Stockholm
BEGIN:DAYLIGHT
TZOFFSETFROM:+0100
TZOFFSETTO:+0200
TZNAME:CEST
DTSTART:20170326T010000
END:DAYLIGHT
BEGIN:STANDARD
TZOFFSETFROM:+0200
TZOFFSETTO:+0100
TZNAME:CET
DTSTART:20171029T010000
END:STANDARD
END:VTIMEZONE
BEGIN:VEVENT
DTSTART;TZID=Europe/Stockholm:20170212T150000
DTEND;TZID=Europe/Stockholm:20170212T170000
DTSTAMP:20260420T081827
CREATED:20170126T202513Z
LAST-MODIFIED:20170206T200217Z
UID:493-1486911600-1486918800@nykoping.vineyard.se
SUMMARY:Gudstjänst
DESCRIPTION:Gudstjänst på Mötesplatsen med start klockan 15. Vi börjar med att sjunga lovsång\, sedan fikar vi och lyssnar på undervisning.
URL:https://nykoping.vineyard.se/event/gudstjanst-40/
LOCATION:Mötesplatsen\, Västra Kvarngatan 52\, Nyköping\, Sverige
CATEGORIES:Gudstjänst
END:VEVENT
END:VCALENDAR