BEGIN:VCALENDAR
VERSION:2.0
PRODID:-//Nyköping Vineyard - ECPv5.2.1//NONSGML v1.0//EN
CALSCALE:GREGORIAN
METHOD:PUBLISH
X-WR-CALNAME:Nyköping Vineyard
X-ORIGINAL-URL:https://nykoping.vineyard.se
X-WR-CALDESC:Händelser för Nyköping Vineyard
BEGIN:VTIMEZONE
TZID:Europe/Stockholm
BEGIN:DAYLIGHT
TZOFFSETFROM:+0100
TZOFFSETTO:+0200
TZNAME:CEST
DTSTART:20170326T010000
END:DAYLIGHT
BEGIN:STANDARD
TZOFFSETFROM:+0200
TZOFFSETTO:+0100
TZNAME:CET
DTSTART:20171029T010000
END:STANDARD
END:VTIMEZONE
BEGIN:VEVENT
DTSTART;TZID=Europe/Stockholm:20170604T100000
DTEND;TZID=Europe/Stockholm:20170604T120000
DTSTAMP:20260420T180532
CREATED:20170507T070207Z
LAST-MODIFIED:20170507T071509Z
UID:539-1496570400-1496577600@nykoping.vineyard.se
SUMMARY:Gudstjänst
DESCRIPTION:Gudstjänst. OBS! platsen är Stegeborgsgården kl. 10:00
URL:https://nykoping.vineyard.se/event/gudstjanst-49/
LOCATION:Stegeborgsgården\, Norrkrog 11\,  VIKBOLANDET\, 610 30\, Sverige
CATEGORIES:Gudstjänst
END:VEVENT
END:VCALENDAR