BEGIN:VCALENDAR
VERSION:2.0
PRODID:-//Nyköping Vineyard - ECPv5.2.1//NONSGML v1.0//EN
CALSCALE:GREGORIAN
METHOD:PUBLISH
X-WR-CALNAME:Nyköping Vineyard
X-ORIGINAL-URL:https://nykoping.vineyard.se
X-WR-CALDESC:Händelser för Nyköping Vineyard
BEGIN:VTIMEZONE
TZID:Europe/Stockholm
BEGIN:DAYLIGHT
TZOFFSETFROM:+0100
TZOFFSETTO:+0200
TZNAME:CEST
DTSTART:20160327T010000
END:DAYLIGHT
BEGIN:STANDARD
TZOFFSETFROM:+0200
TZOFFSETTO:+0100
TZNAME:CET
DTSTART:20161030T010000
END:STANDARD
END:VTIMEZONE
BEGIN:VEVENT
DTSTART;VALUE=DATE:20160219
DTEND;VALUE=DATE:20160222
DTSTAMP:20260419T153202
CREATED:20160104T104100Z
LAST-MODIFIED:20160104T104207Z
UID:352-1455840000-1456099199@nykoping.vineyard.se
SUMMARY:Konferens Norrköping Vineyard
DESCRIPTION:Konferenshelg hos Norrköping Vineyard: “Love your city to life”. \nAnmälan via Norrköping Vineyards hemsida: http://norrkoping.vineyard.se
URL:https://nykoping.vineyard.se/event/konferens-norrkoping-vineyard/
LOCATION:Immanuelskyrkan\, Södra promenaden 106\, Norrköping
END:VEVENT
END:VCALENDAR