BEGIN:VCALENDAR
VERSION:2.0
PRODID:-//Nyköping Vineyard - ECPv5.2.1//NONSGML v1.0//EN
CALSCALE:GREGORIAN
METHOD:PUBLISH
X-WR-CALNAME:Nyköping Vineyard
X-ORIGINAL-URL:https://nykoping.vineyard.se
X-WR-CALDESC:Händelser för Nyköping Vineyard
BEGIN:VTIMEZONE
TZID:Europe/Stockholm
BEGIN:DAYLIGHT
TZOFFSETFROM:+0100
TZOFFSETTO:+0200
TZNAME:CEST
DTSTART:20170326T010000
END:DAYLIGHT
BEGIN:STANDARD
TZOFFSETFROM:+0200
TZOFFSETTO:+0100
TZNAME:CET
DTSTART:20171029T010000
END:STANDARD
END:VTIMEZONE
BEGIN:VEVENT
DTSTART;TZID=Europe/Stockholm:20170602T170000
DTEND;TZID=Europe/Stockholm:20170604T130000
DTSTAMP:20260420T181324
CREATED:20170507T070952Z
LAST-MODIFIED:20170517T190346Z
UID:544-1496422800-1496581200@nykoping.vineyard.se
SUMMARY:Vårläger
DESCRIPTION:Vi träffas på Stegeborgsgården!\nLadda ner schema (pdf).
URL:https://nykoping.vineyard.se/event/varlager/
LOCATION:Stegeborgsgården\, Norrkrog 11\,  VIKBOLANDET\, 610 30\, Sverige
CATEGORIES:Läger
END:VEVENT
END:VCALENDAR